BEGIN:VCALENDAR
VERSION:2.0
PRODID:-//Historic Cabarrus Association - ECPv6.15.20//NONSGML v1.0//EN
CALSCALE:GREGORIAN
METHOD:PUBLISH
X-WR-CALNAME:Historic Cabarrus Association
X-ORIGINAL-URL:https://historiccabarrusassociation.org
X-WR-CALDESC:Events for Historic Cabarrus Association
REFRESH-INTERVAL;VALUE=DURATION:PT1H
X-Robots-Tag:noindex
X-PUBLISHED-TTL:PT1H
BEGIN:VTIMEZONE
TZID:America/New_York
BEGIN:DAYLIGHT
TZOFFSETFROM:-0500
TZOFFSETTO:-0400
TZNAME:EDT
DTSTART:20250309T070000
END:DAYLIGHT
BEGIN:STANDARD
TZOFFSETFROM:-0400
TZOFFSETTO:-0500
TZNAME:EST
DTSTART:20251102T060000
END:STANDARD
BEGIN:DAYLIGHT
TZOFFSETFROM:-0500
TZOFFSETTO:-0400
TZNAME:EDT
DTSTART:20260308T070000
END:DAYLIGHT
BEGIN:STANDARD
TZOFFSETFROM:-0400
TZOFFSETTO:-0500
TZNAME:EST
DTSTART:20261101T060000
END:STANDARD
BEGIN:DAYLIGHT
TZOFFSETFROM:-0500
TZOFFSETTO:-0400
TZNAME:EDT
DTSTART:20270314T070000
END:DAYLIGHT
BEGIN:STANDARD
TZOFFSETFROM:-0400
TZOFFSETTO:-0500
TZNAME:EST
DTSTART:20271107T060000
END:STANDARD
END:VTIMEZONE
BEGIN:VEVENT
DTSTART;TZID=America/New_York:20260423T183000
DTEND;TZID=America/New_York:20260423T200000
DTSTAMP:20260419T134547
CREATED:20260416T153034Z
LAST-MODIFIED:20260416T163900Z
UID:4974-1776969000-1776974400@historiccabarrusassociation.org
SUMMARY:History Talks: British Soldiers in North America\, 1775–1783 - A Lecture with Mr. Ed Niven
DESCRIPTION:Seats are limited at Flywheel. RSVP encouraged. \nThis event is free and open to the public. Donations are encouraged to support the Historic Cabarrus Association’s educational programming. Get free tickets and/or make a donation here. \nAs part of our America 250 programming\, Ed Niven will present a living history talk on British soldiers during the American Revolution. Dressed in a full reenactment uniform\, he will share insights into the clothing\, equipment\, muskets\, and daily realities of British military life in North America from 1775 to 1783. This program offers an engaging\, hands-on look at the material culture of the Revolutionary era.
URL:https://historiccabarrusassociation.org/event/history-talks-british-soldiers-in-north-america-1775-1783-a-lecture-with-mr-ed-niven/
LOCATION:Flywheel Coworking: The Cabarrus Center\, 57 Union Street South\, Concord\, NC\, 28025\, United States
CATEGORIES:America 250,HCA Events,History Talks
ATTACH;FMTTYPE=image/avif:https://historiccabarrusassociation.org/wp-content/uploads/history-talks-british-soldiers-in-north-america-1775-1783.avif
ORGANIZER;CN="Historic Cabarrus Association":MAILTO:director@historiccabarrusassociation.org
END:VEVENT
BEGIN:VEVENT
DTSTART;TZID=America/New_York:20260521T183000
DTEND;TZID=America/New_York:20260521T200000
DTSTAMP:20260419T134547
CREATED:20260416T153314Z
LAST-MODIFIED:20260416T165444Z
UID:4976-1779388200-1779393600@historiccabarrusassociation.org
SUMMARY:History Talks: St. John’s Lutheran Church in Concord\, NC During the Civil War - A Lecture with Mr. Barry Richards
DESCRIPTION:Seats are limited at Flywheel. RSVP encouraged. \nThis event is free and open to the public. Donations are encouraged to support the Historic Cabarrus Association’s educational programming. Get free tickets and/or make a donation here. \nBarry Richards will explore the history of St. John’s Lutheran Church in Concord during the Civil War\, paired with the rich genealogy connected to the church community. This special presentation will offer a personal look into the church’s past and provide exclusive findings of genealogical records spanning 1735 to 1899. Ideal for those interested in local history\, family research\, and historic preservation.
URL:https://historiccabarrusassociation.org/event/history-talks-st-johns-lutheran-church-in-concord-nc-during-the-civil-war-a-lecture-with-mr-barry-richards/
LOCATION:Flywheel Coworking: The Cabarrus Center\, 57 Union Street South\, Concord\, NC\, 28025\, United States
CATEGORIES:HCA Events,History Talks
ATTACH;FMTTYPE=image/avif:https://historiccabarrusassociation.org/wp-content/uploads/history-talks-st-john-lutheran-church-civil-war.avif
ORGANIZER;CN="Historic Cabarrus Association":MAILTO:director@historiccabarrusassociation.org
END:VEVENT
BEGIN:VEVENT
DTSTART;TZID=America/New_York:20260820T183000
DTEND;TZID=America/New_York:20260820T200000
DTSTAMP:20260419T134547
CREATED:20260416T153813Z
LAST-MODIFIED:20260416T171422Z
UID:4978-1787250600-1787256000@historiccabarrusassociation.org
SUMMARY:History Talks: How North Carolina Got Its Shape - A Lecture with Mr. Lars Lippard
DESCRIPTION:Seats are limited at Flywheel. RSVP encouraged. \nThis event is free and open to the public. Donations are encouraged to support the Historic Cabarrus Association’s educational programming. Get free tickets and/or make a donation here. \nAs part of our America 250 programming\, Lars Lippard will examine how North Carolina’s borders were established and how the state came to take its present shape. Covering developments from the colonial and pre-Revolutionary period through the early 1800s\, this talk will explain how surveyors\, geography\, and politics helped determine the state lines we know today.
URL:https://historiccabarrusassociation.org/event/history-talks-how-north-carolina-got-its-shape-a-lecture-with-mr-lars-lippard/
LOCATION:Flywheel Coworking: The Cabarrus Center\, 57 Union Street South\, Concord\, NC\, 28025\, United States
CATEGORIES:America 250,HCA Events,History Talks
ATTACH;FMTTYPE=image/avif:https://historiccabarrusassociation.org/wp-content/uploads/history-talks-how-north-carolina-got-its-shape.avif
ORGANIZER;CN="Historic Cabarrus Association":MAILTO:director@historiccabarrusassociation.org
END:VEVENT
BEGIN:VEVENT
DTSTART;TZID=America/New_York:20261002T183000
DTEND;TZID=America/New_York:20261031T203000
DTSTAMP:20260419T134547
CREATED:20260415T222514Z
LAST-MODIFIED:20260416T153444Z
UID:1652-1790965800-1793478600@historiccabarrusassociation.org
SUMMARY:History & Haunts Ghostly Walking Tours
DESCRIPTION:Join us for an enchanting evening on our History & Haunts Ghostly Walking Tours in downtown Concord! As dusk falls\, you’ll embark on a captivating journey through the historic streets\, guided by the flickering light of lanterns. Listen intently as local storytellers share spine-tingling tales of the haunted history that lingers in our beloved city. \nThis immersive experience will take you to some of downtown Concord’s most intriguing locations\, where you’ll hear about the spirits that are said to roam these streets and the eerie events that have shaped our community’s past. Perfect for history enthusiasts and thrill-seekers alike\, this tour promises to be both educational and entertaining. \nEvent Dates & Times: \n– Friday\, October 2: 6:30pm and 8:30pm\n– Saturday\, October 3: 6:30pm and 8:30pm \n– Friday\, October 9: 6:30pm and 8:30pm\n– Saturday\, October 10: 6:30pm and 8:30pm \n– Friday\, October 16: 6:30pm and 8:30pm\n– Saturday\, October 17: 6:30pm and 8:30pm \n– Friday\, October 23: 6:30pm and 8:30pm\n– Saturday\, October 24: 6:30pm and 8:30pm \n– Friday\, October 30: 6:30pm and 8:30pm\n– Saturday\, October 31: 6:30pm and 8:30pm
URL:https://historiccabarrusassociation.org/event/2026-history-haunts-walking-tours/
LOCATION:HCA Historic Welcome Center\, 65 Union Street South\, Concord\, NC\, 28025\, United States
CATEGORIES:HCA Events,History and Haunts,Walking Tours
ATTACH;FMTTYPE=image/jpeg:https://historiccabarrusassociation.org/wp-content/uploads/historic-cabarrus-history-and-haunts-walking-tour-event.avif
ORGANIZER;CN="Historic Cabarrus Association":MAILTO:director@historiccabarrusassociation.org
END:VEVENT
END:VCALENDAR