BEGIN:VCALENDAR
VERSION:2.0
PRODID:-//Historic Cabarrus Association - ECPv6.15.20//NONSGML v1.0//EN
CALSCALE:GREGORIAN
METHOD:PUBLISH
X-WR-CALNAME:Historic Cabarrus Association
X-ORIGINAL-URL:https://historiccabarrusassociation.org
X-WR-CALDESC:Events for Historic Cabarrus Association
REFRESH-INTERVAL;VALUE=DURATION:PT1H
X-Robots-Tag:noindex
X-PUBLISHED-TTL:PT1H
BEGIN:VTIMEZONE
TZID:America/New_York
BEGIN:DAYLIGHT
TZOFFSETFROM:-0500
TZOFFSETTO:-0400
TZNAME:EDT
DTSTART:20240310T070000
END:DAYLIGHT
BEGIN:STANDARD
TZOFFSETFROM:-0400
TZOFFSETTO:-0500
TZNAME:EST
DTSTART:20241103T060000
END:STANDARD
BEGIN:DAYLIGHT
TZOFFSETFROM:-0500
TZOFFSETTO:-0400
TZNAME:EDT
DTSTART:20250309T070000
END:DAYLIGHT
BEGIN:STANDARD
TZOFFSETFROM:-0400
TZOFFSETTO:-0500
TZNAME:EST
DTSTART:20251102T060000
END:STANDARD
BEGIN:DAYLIGHT
TZOFFSETFROM:-0500
TZOFFSETTO:-0400
TZNAME:EDT
DTSTART:20260308T070000
END:DAYLIGHT
BEGIN:STANDARD
TZOFFSETFROM:-0400
TZOFFSETTO:-0500
TZNAME:EST
DTSTART:20261101T060000
END:STANDARD
BEGIN:DAYLIGHT
TZOFFSETFROM:-0500
TZOFFSETTO:-0400
TZNAME:EDT
DTSTART:20270314T070000
END:DAYLIGHT
BEGIN:STANDARD
TZOFFSETFROM:-0400
TZOFFSETTO:-0500
TZNAME:EST
DTSTART:20271107T060000
END:STANDARD
END:VTIMEZONE
BEGIN:VEVENT
DTSTART;TZID=America/New_York:20260412T110000
DTEND;TZID=America/New_York:20260412T160000
DTSTAMP:20260419T153359
CREATED:20251126T210544Z
LAST-MODIFIED:20251126T210932Z
UID:3226-1775991600-1776009600@historiccabarrusassociation.org
SUMMARY:Art Walk On Union
DESCRIPTION:Art Walk on Union is back on April 12th! Join us for a celebration of creativity\, community\, and connection. Art Walk on Union is sponsored by Eli Lilly and Company. Take a stroll through Downtown Concord\, where you can celebrate local creativity at our galleries\, stop by the local shops\, and shop with all the vendors selling unique\, crafted items! There will also be a shuttle to and from ClearWater Arts Center & Studios to visit their galleries and artist studios.
URL:https://historiccabarrusassociation.org/event/art-walk-on-union/
LOCATION:HCA Historic Welcome Center\, 65 Union Street South\, Concord\, NC\, 28025\, United States
CATEGORIES:HCA Events
ATTACH;FMTTYPE=image/jpeg:https://historiccabarrusassociation.org/wp-content/uploads/historic-cabarrus-art-walk-on-union.avif
ORGANIZER;CN="Cabarrus Arts Council":MAILTO:info@cabarrusartscouncil.org
END:VEVENT
BEGIN:VEVENT
DTSTART;TZID=America/New_York:20260319T183000
DTEND;TZID=America/New_York:20260319T200000
DTSTAMP:20260419T153359
CREATED:20251220T195150Z
LAST-MODIFIED:20260309T200942Z
UID:3683-1773945000-1773950400@historiccabarrusassociation.org
SUMMARY:History Talks: Gold\, Growth & the Making of Concord - A Lecture with Mr. John Dysart
DESCRIPTION:Seats are limited at Flywheel. RSVP encouraged. \nThis event is free and open to the public. Donations are encouraged to support the Historic Cabarrus Association’s educational programming. \nJoin former Site Manager of Reed Gold Mine State Historic Site\, Mr. John Dysart\, for an engaging evening exploring how gold shaped Cabarrus County — and how North Carolina’s gold rush transformed the state long before California ever struck it rich. \nIn this presentation\, Mr. Dysart will uncover: \n\nThe origins and impact of North Carolina’s first gold discoveries\nHow Reed Gold Mine became a catalyst for regional growth\nThe surprising scale of gold mining activity across Cabarrus and Mecklenburg counties\nWhy North Carolina’s gold story is often overlooked in national narratives\n\nLong before 1848\, this region was at the center of America’s first gold rush\, setting in motion migration patterns and economic shifts that would ripple far beyond our county lines. \nWhether you’re a longtime history enthusiast or simply curious about the forces that shaped our community\, this lecture offers a fresh perspective on a story that began right here in Cabarrus County.
URL:https://historiccabarrusassociation.org/event/history-talks-gold-growth-the-making-of-concord-a-lecture-with-john-dysart/
LOCATION:Flywheel Coworking: The Cabarrus Center\, 57 Union Street South\, Concord\, NC\, 28025\, United States
CATEGORIES:America 250,HCA Events,History Talks
ATTACH;FMTTYPE=image/jpeg:https://historiccabarrusassociation.org/wp-content/uploads/history-talks-gold-growth-the-making-of-concord.avif
ORGANIZER;CN="Historic Cabarrus Association":MAILTO:director@historiccabarrusassociation.org
END:VEVENT
BEGIN:VEVENT
DTSTART;TZID=America/New_York:20260219T183000
DTEND;TZID=America/New_York:20260219T193000
DTSTAMP:20260419T153359
CREATED:20251220T194712Z
LAST-MODIFIED:20251220T204931Z
UID:3680-1771525800-1771529400@historiccabarrusassociation.org
SUMMARY:History Talks Speaker Series: Rebuiling Meadow View School
DESCRIPTION:Join the Historic Cabarrus Association for a special History Talks event in honor of Black History Month\, featuring one of the county’s most meaningful preservation projects — the Meadow View School. As the last remaining Jim Crow–era Black school in Cabarrus County\, Meadow View stands as a vital piece of local and educational history. \nThis engaging session will explore the school’s historic significance\, the ongoing reconstruction efforts\, and the broader importance of preserving African American heritage sites. Attendees will hear from community partners and local preservationists who will share insights into the challenges and triumphs of bringing this landmark back to life. \nParticipants will gain a deeper appreciation of how community-driven preservation can honor the past while inspiring progress for the future.
URL:https://historiccabarrusassociation.org/event/history-talks-speaker-series-rebuiling-meadow-view-school/
LOCATION:The Davis Theatre\, 65 Union Street South\, Concord\, NC\, 28025\, United States
CATEGORIES:America 250,HCA Events,History Talks
ATTACH;FMTTYPE=image/jpeg:https://historiccabarrusassociation.org/wp-content/uploads/historic-cabarrus-history-talks-meadowview-school.avif
ORGANIZER;CN="Historic Cabarrus Association":MAILTO:director@historiccabarrusassociation.org
END:VEVENT
BEGIN:VEVENT
DTSTART;TZID=America/New_York:20260115T183000
DTEND;TZID=America/New_York:20260115T193000
DTSTAMP:20260419T153359
CREATED:20251220T193308Z
LAST-MODIFIED:20251220T204948Z
UID:3677-1768501800-1768505400@historiccabarrusassociation.org
SUMMARY:History Talks Speaker Series: An Overview Of Concord's History
DESCRIPTION:Start the year with a journey into the heart of the city we call home! The Historic Cabarrus Association kicks off its new HistoryTalks series with a special session inspired by Concord 101—an engaging introduction to our city’s civic structure\, historic landscape\, and evolving community identity. \nLed by Ashley Sedlak-Propst\, former HCA Executive Director and current Board member\, this session will offer an insightful look at Concord’s origins\, growth\, and defining landmarks. Guests will also discover intriguing stories and lesser-known details that help explain how Concord became the vibrant community it is today. \nPerfect for new residents\, lifelong locals\, and anyone curious about how our city works—past and present.
URL:https://historiccabarrusassociation.org/event/history-talks-speaker-series-an-overview-of-concords-history/
LOCATION:Flywheel Coworking: The Cabarrus Center\, 57 Union Street South\, Concord\, NC\, 28025\, United States
CATEGORIES:America 250,HCA Events,History Talks
ATTACH;FMTTYPE=image/jpeg:https://historiccabarrusassociation.org/wp-content/uploads/historic-cabarrus-history-talks-concord-history-overview.avif
ORGANIZER;CN="Historic Cabarrus Association":MAILTO:director@historiccabarrusassociation.org
END:VEVENT
BEGIN:VEVENT
DTSTART;TZID=America/New_York:20251213T160000
DTEND;TZID=America/New_York:20251214T190000
DTSTAMP:20260419T153359
CREATED:20251126T212121Z
LAST-MODIFIED:20251126T212958Z
UID:3230-1765641600-1765738800@historiccabarrusassociation.org
SUMMARY:Historic Holiday Home Tour
DESCRIPTION:The Residents of Historic Concord are pleased to announce the return of the “Tidings of Comfort & Joy Holiday Home Tour” for 2025\, featuring 11 homes\, two churches\, and one business. The Tour will be open to the ticket-holding public on Saturday\, December 13th\, from 4-8 pm\, and Sunday\, December 14th\, from 1-7:00 pm. Complimentary trolleys will be available to take guests to each stop on the Tour. \nTicket sales go LIVE on Saturday\, November 1st\, and can be purchased on our website or in person at the 28th Annual Downtown Concord Tree Lighting Ceremony on Saturday\, November 21st. Our booth will be located at the Flywheel Co-Working Space\, 57 Union Street South. \nTickets are $30 each through December 12th\, and then will be $35 each if purchased on December 13-14th\, so buy yours early! All tickets will be picked up at Will Call at Flywheel Co-working Space in Downtown Concord. \nWe are excited to bring this excellent Tour back for everyone to enjoy! \nFor any questions or comments\, please email president@residentsofhistoricconcord.org.
URL:https://historiccabarrusassociation.org/event/historic-holiday-home-tour/
LOCATION:HCA Historic Welcome Center\, 65 Union Street South\, Concord\, NC\, 28025\, United States
CATEGORIES:HCA Events
ATTACH;FMTTYPE=image/jpeg:https://historiccabarrusassociation.org/wp-content/uploads/historic-holiday-home-tour-event.avif
ORGANIZER;CN="Residents of Historic Concord":MAILTO:president@residentsofhistoricconcord.org
END:VEVENT
BEGIN:VEVENT
DTSTART;TZID=America/New_York:20251206T180000
DTEND;TZID=America/New_York:20251206T220000
DTSTAMP:20260419T153359
CREATED:20250630T175325Z
LAST-MODIFIED:20250709T181432Z
UID:1900-1765044000-1765058400@historiccabarrusassociation.org
SUMMARY:Holiday Mix & Mingle
DESCRIPTION:Celebrate the season with Holiday Mix & Mingle—a relaxed\, festive gathering designed to bring together members\, donors\, and preservation enthusiasts to toast to a year of preserving Cabarrus County’s history. Enjoy drinks\, light bites\, and warm conversation while exploring a historic venue decked out for the holidays. This is a perfect chance to catch up with fellow supporters\, meet new faces\, and hear updates on the projects your involvement makes possible\, all while enjoying the spirit of the season.
URL:https://historiccabarrusassociation.org/event/holiday-mix-mingle/
LOCATION:Cabarrus Brewing Co.\, 329 McGill Avenue\, Concord\, NC\, 28027\, United States
CATEGORIES:HCA Events
ATTACH;FMTTYPE=image/jpeg:https://historiccabarrusassociation.org/wp-content/uploads/historic-cabarrus-holiday-mix-and-mingle-event.avif
ORGANIZER;CN="Historic Cabarrus Association":MAILTO:director@historiccabarrusassociation.org
END:VEVENT
BEGIN:VEVENT
DTSTART;TZID=America/New_York:20250927T180000
DTEND;TZID=America/New_York:20250927T230000
DTSTAMP:20260419T153359
CREATED:20250630T175149Z
LAST-MODIFIED:20250903T165152Z
UID:1897-1758996000-1759014000@historiccabarrusassociation.org
SUMMARY:Movie Under the Stars: Halloween Double Feature at Southern Grace Distilleries
DESCRIPTION:Back by popular demand\, HCA’s Movie Under the Stars returns to the historic grounds of Southern Grace Distilleries\, the former Mt. Pleasant Prison\, now an award-winning distillery. This special Halloween double feature starts with the family favorite movie\, Hocus Pocus\, at 7:30 PM\, followed by a classic scary film under the stars at 9:30 PM for those who dare to stay! Bring your chairs and blankets\, and enjoy food trucks\, concessions\, and kid-friendly activities before and during the films. The tasting room and cocktail bar will be open\, and guided prison tours will be available to explore the site’s rich history while you soak in a fall evening of fun.
URL:https://historiccabarrusassociation.org/event/movie-night-at-southern-grace-distilleries/
LOCATION:Southern Gace Distilleries\, 130 Dutch Road\, Mount Pleasant\, NC\, 28124\, United States
CATEGORIES:HCA Events
ATTACH;FMTTYPE=image/jpeg:https://historiccabarrusassociation.org/wp-content/uploads/historic-cabarrus-association-movie-night.avif
ORGANIZER;CN="Historic Cabarrus Association":MAILTO:director@historiccabarrusassociation.org
END:VEVENT
END:VCALENDAR