BEGIN:VCALENDAR
VERSION:2.0
PRODID:-//Historic Cabarrus Association - ECPv6.15.20//NONSGML v1.0//EN
CALSCALE:GREGORIAN
METHOD:PUBLISH
X-ORIGINAL-URL:https://historiccabarrusassociation.org
X-WR-CALDESC:Events for Historic Cabarrus Association
REFRESH-INTERVAL;VALUE=DURATION:PT1H
X-Robots-Tag:noindex
X-PUBLISHED-TTL:PT1H
BEGIN:VTIMEZONE
TZID:America/New_York
BEGIN:DAYLIGHT
TZOFFSETFROM:-0500
TZOFFSETTO:-0400
TZNAME:EDT
DTSTART:20250309T070000
END:DAYLIGHT
BEGIN:STANDARD
TZOFFSETFROM:-0400
TZOFFSETTO:-0500
TZNAME:EST
DTSTART:20251102T060000
END:STANDARD
BEGIN:DAYLIGHT
TZOFFSETFROM:-0500
TZOFFSETTO:-0400
TZNAME:EDT
DTSTART:20260308T070000
END:DAYLIGHT
BEGIN:STANDARD
TZOFFSETFROM:-0400
TZOFFSETTO:-0500
TZNAME:EST
DTSTART:20261101T060000
END:STANDARD
BEGIN:DAYLIGHT
TZOFFSETFROM:-0500
TZOFFSETTO:-0400
TZNAME:EDT
DTSTART:20270314T070000
END:DAYLIGHT
BEGIN:STANDARD
TZOFFSETFROM:-0400
TZOFFSETTO:-0500
TZNAME:EST
DTSTART:20271107T060000
END:STANDARD
END:VTIMEZONE
BEGIN:VEVENT
DTSTART;TZID=America/New_York:20260319T183000
DTEND;TZID=America/New_York:20260319T200000
DTSTAMP:20260419T153754
CREATED:20251220T195150Z
LAST-MODIFIED:20260309T200942Z
UID:3683-1773945000-1773950400@historiccabarrusassociation.org
SUMMARY:History Talks: Gold\, Growth & the Making of Concord - A Lecture with Mr. John Dysart
DESCRIPTION:Seats are limited at Flywheel. RSVP encouraged. \nThis event is free and open to the public. Donations are encouraged to support the Historic Cabarrus Association’s educational programming. \nJoin former Site Manager of Reed Gold Mine State Historic Site\, Mr. John Dysart\, for an engaging evening exploring how gold shaped Cabarrus County — and how North Carolina’s gold rush transformed the state long before California ever struck it rich. \nIn this presentation\, Mr. Dysart will uncover: \n\nThe origins and impact of North Carolina’s first gold discoveries\nHow Reed Gold Mine became a catalyst for regional growth\nThe surprising scale of gold mining activity across Cabarrus and Mecklenburg counties\nWhy North Carolina’s gold story is often overlooked in national narratives\n\nLong before 1848\, this region was at the center of America’s first gold rush\, setting in motion migration patterns and economic shifts that would ripple far beyond our county lines. \nWhether you’re a longtime history enthusiast or simply curious about the forces that shaped our community\, this lecture offers a fresh perspective on a story that began right here in Cabarrus County.
URL:https://historiccabarrusassociation.org/event/history-talks-gold-growth-the-making-of-concord-a-lecture-with-john-dysart/
LOCATION:Flywheel Coworking: The Cabarrus Center\, 57 Union Street South\, Concord\, NC\, 28025\, United States
CATEGORIES:America 250,HCA Events,History Talks
ATTACH;FMTTYPE=image/jpeg:https://historiccabarrusassociation.org/wp-content/uploads/history-talks-gold-growth-the-making-of-concord.avif
ORGANIZER;CN="Historic Cabarrus Association":MAILTO:director@historiccabarrusassociation.org
END:VEVENT
BEGIN:VEVENT
DTSTART;TZID=America/New_York:20260219T183000
DTEND;TZID=America/New_York:20260219T193000
DTSTAMP:20260419T153754
CREATED:20251220T194712Z
LAST-MODIFIED:20251220T204931Z
UID:3680-1771525800-1771529400@historiccabarrusassociation.org
SUMMARY:History Talks Speaker Series: Rebuiling Meadow View School
DESCRIPTION:Join the Historic Cabarrus Association for a special History Talks event in honor of Black History Month\, featuring one of the county’s most meaningful preservation projects — the Meadow View School. As the last remaining Jim Crow–era Black school in Cabarrus County\, Meadow View stands as a vital piece of local and educational history. \nThis engaging session will explore the school’s historic significance\, the ongoing reconstruction efforts\, and the broader importance of preserving African American heritage sites. Attendees will hear from community partners and local preservationists who will share insights into the challenges and triumphs of bringing this landmark back to life. \nParticipants will gain a deeper appreciation of how community-driven preservation can honor the past while inspiring progress for the future.
URL:https://historiccabarrusassociation.org/event/history-talks-speaker-series-rebuiling-meadow-view-school/
LOCATION:The Davis Theatre\, 65 Union Street South\, Concord\, NC\, 28025\, United States
CATEGORIES:America 250,HCA Events,History Talks
ATTACH;FMTTYPE=image/jpeg:https://historiccabarrusassociation.org/wp-content/uploads/historic-cabarrus-history-talks-meadowview-school.avif
ORGANIZER;CN="Historic Cabarrus Association":MAILTO:director@historiccabarrusassociation.org
END:VEVENT
BEGIN:VEVENT
DTSTART;TZID=America/New_York:20260115T183000
DTEND;TZID=America/New_York:20260115T193000
DTSTAMP:20260419T153754
CREATED:20251220T193308Z
LAST-MODIFIED:20251220T204948Z
UID:3677-1768501800-1768505400@historiccabarrusassociation.org
SUMMARY:History Talks Speaker Series: An Overview Of Concord's History
DESCRIPTION:Start the year with a journey into the heart of the city we call home! The Historic Cabarrus Association kicks off its new HistoryTalks series with a special session inspired by Concord 101—an engaging introduction to our city’s civic structure\, historic landscape\, and evolving community identity. \nLed by Ashley Sedlak-Propst\, former HCA Executive Director and current Board member\, this session will offer an insightful look at Concord’s origins\, growth\, and defining landmarks. Guests will also discover intriguing stories and lesser-known details that help explain how Concord became the vibrant community it is today. \nPerfect for new residents\, lifelong locals\, and anyone curious about how our city works—past and present.
URL:https://historiccabarrusassociation.org/event/history-talks-speaker-series-an-overview-of-concords-history/
LOCATION:Flywheel Coworking: The Cabarrus Center\, 57 Union Street South\, Concord\, NC\, 28025\, United States
CATEGORIES:America 250,HCA Events,History Talks
ATTACH;FMTTYPE=image/jpeg:https://historiccabarrusassociation.org/wp-content/uploads/historic-cabarrus-history-talks-concord-history-overview.avif
ORGANIZER;CN="Historic Cabarrus Association":MAILTO:director@historiccabarrusassociation.org
END:VEVENT
END:VCALENDAR